BEGIN:VCALENDAR
VERSION:2.0
PRODID:-//104.152.168.27//NONSGML kigkonsult.se iCalcreator 2.20//
CALSCALE:GREGORIAN
METHOD:PUBLISH
X-WR-TIMEZONE:Asia/Tokyo
BEGIN:VEVENT
UID:event20406@Tokyo Gig Guide
DTSTAMP:20260421T041711Z
CATEGORIES:Progressive\, Psychedelic\, Psych-Folk
DESCRIPTION:Ayuo\, Masaki Batoh (The silence\, Ghost)\, TOMO (hurdy gurdy)
 \nCategory: Progressive\, Psychedelic\, Psych-Folk\nLink: https://www.toky
 ogigguide.com/index.php?option=com_jem&view=event&id=20406:ayuo-masaki-bat
 oh-silence-ghost-tomo-hurdy-gurdy&Itemid=1094\n
DTSTART:20181117T190000
DTEND:20181117T190000
LOCATION:Casa Mozart\,3rd Floor\, 1-10-23 Jingumae Shibuya-ku\, Tokyo\,Hara
 juku
SUMMARY:Ayuo\, Masaki Batoh (The silence\, Ghost)\, TOMO (hurdy gurdy)
URL:https://www.tokyogigguide.com/index.php?option=com_jem&view=event&id=20
 406:ayuo-masaki-batoh-silence-ghost-tomo-hurdy-gurdy&Itemid=1094
END:VEVENT
END:VCALENDAR
