BEGIN:VCALENDAR
VERSION:2.0
PRODID:-//104.152.168.27//NONSGML kigkonsult.se iCalcreator 2.20//
CALSCALE:GREGORIAN
METHOD:PUBLISH
X-WR-TIMEZONE:Asia/Tokyo
BEGIN:VEVENT
UID:event20405@Tokyo Gig Guide
DTSTAMP:20260420T162749Z
CATEGORIES:Progressive\, Psychedelic\, Psych-Folk
DESCRIPTION:Ayuo\, Yuichi Ushioda\, TOMO (hurdy gurdy)\nCategory: Progressi
 ve\, Psychedelic\, Psych-Folk\nLink: https://www.tokyogigguide.com/index.p
 hp?option=com_jem&view=event&id=20405:ayuo-yuichi-ushioda-tomo-hurdy-gurdy
 &Itemid=1094\n
DTSTART:20180929T190000
DTEND:20180929T190000
LOCATION:Casa Mozart\,3rd Floor\, 1-10-23 Jingumae Shibuya-ku\, Tokyo\,Hara
 juku
SUMMARY:Ayuo\, Yuichi Ushioda\, TOMO (hurdy gurdy)
URL:https://www.tokyogigguide.com/index.php?option=com_jem&view=event&id=20
 405:ayuo-yuichi-ushioda-tomo-hurdy-gurdy&Itemid=1094
END:VEVENT
END:VCALENDAR
