BEGIN:VCALENDAR
VERSION:2.0
PRODID:-//104.152.168.27//NONSGML kigkonsult.se iCalcreator 2.20//
CALSCALE:GREGORIAN
METHOD:PUBLISH
X-WR-TIMEZONE:Asia/Tokyo
BEGIN:VEVENT
UID:event20379@Tokyo Gig Guide
DTSTAMP:20260420T000303Z
CATEGORIES:Avant garde\, Instrumental\, Progressive
DESCRIPTION:bondagefruit (Natsuki Kido\, Yuji Katsui\, Hirohiko Otsubo\, Ku
 miko Takara\, Youichi Okabe)\nCategory: Avant garde\, Instrumental\, Progr
 essive\nLink: https://www.tokyogigguide.com/index.php?option=com_jem&view=
 event&id=20379:bondagefruit-natsuki-kido-yuji-katsui-hirohiko-otsubo-kumik
 o-takara-youichi-okabe&Itemid=1094\n
DTSTART:20181101T190000
DTEND:20181101T190000
LOCATION:Silver Elephant\,2-10-6 B1\, Kichijoji Honmachi\,Kichijoji
SUMMARY:bondagefruit (Natsuki Kido\, Yuji Katsui\, Hirohiko Otsubo\, Kumiko
  Takara\, Youichi Okabe)
URL:https://www.tokyogigguide.com/index.php?option=com_jem&view=event&id=20
 379:bondagefruit-natsuki-kido-yuji-katsui-hirohiko-otsubo-kumiko-takara-yo
 uichi-okabe&Itemid=1094
END:VEVENT
END:VCALENDAR
