BEGIN:VCALENDAR
VERSION:2.0
PRODID:-//104.152.168.27//NONSGML kigkonsult.se iCalcreator 2.20//
CALSCALE:GREGORIAN
METHOD:PUBLISH
X-WR-TIMEZONE:Asia/Tokyo
BEGIN:VEVENT
UID:event2027@Tokyo Gig Guide
DTSTAMP:20260424T014632Z
CATEGORIES:Noise
DESCRIPTION:DUEL (Keiko Higuchi＋ASTRO＋Kelly Churko＋TABATA)\, schreckwurmer\
 , OUT OF THE UNKNOWN...\nCategory: Noise\nLink: https://www.tokyogigguide.
 com/index.php?option=com_jem&view=event&id=2027:duel-keiko-higuchiastrokel
 ly-churkotabata-schreckwurmer-out-of-the-unknown-vl&Itemid=1094\n
DTSTART:20091201T190000
DTEND:20091201T190000
LOCATION:Earthdom\,Lisbon Bldg B1F\, 3-32-3 Okubo\, Shinjuku-ku\,Okubo
SUMMARY:DUEL (Keiko Higuchi＋ASTRO＋Kelly Churko＋TABATA)\, schreckwurmer\, OU
 T OF THE UNKNOWN...
URL:https://www.tokyogigguide.com/index.php?option=com_jem&view=event&id=20
 27:duel-keiko-higuchiastrokelly-churkotabata-schreckwurmer-out-of-the-unkn
 own-vl&Itemid=1094
END:VEVENT
END:VCALENDAR
