BEGIN:VCALENDAR
VERSION:2.0
PRODID:-//104.152.168.27//NONSGML kigkonsult.se iCalcreator 2.20//
CALSCALE:GREGORIAN
METHOD:PUBLISH
X-WR-TIMEZONE:Asia/Tokyo
BEGIN:VEVENT
UID:event20248@Tokyo Gig Guide
DTSTAMP:20260422T113830Z
CATEGORIES:Acoustic\, Avant garde\, Instrumental\, Latin
DESCRIPTION:Natsuki Kido Quinteto\nCategory: Acoustic\, Avant garde\, Instr
 umental\, Latin\nLink: https://www.tokyogigguide.com/index.php?option=com_
 jem&view=event&id=20248:natsuki-kido-quinteto&Itemid=1094\n
DTSTART:20180920T183000
DTEND:20180920T183000
LOCATION:Dolphy\,2-17-4-2F Miyagawa-cho\, Naka-ku\, Yokohama\,Yokohama
SUMMARY:Natsuki Kido Quinteto
URL:https://www.tokyogigguide.com/index.php?option=com_jem&view=event&id=20
 248:natsuki-kido-quinteto&Itemid=1094
END:VEVENT
END:VCALENDAR
