BEGIN:VCALENDAR
VERSION:2.0
PRODID:-//104.152.168.27//NONSGML kigkonsult.se iCalcreator 2.20//
CALSCALE:GREGORIAN
METHOD:PUBLISH
X-WR-TIMEZONE:Asia/Tokyo
BEGIN:VEVENT
UID:event19831@Tokyo Gig Guide
DTSTAMP:20260425T002206Z
CATEGORIES:Doom\, Metal\, Noise\, Psychedelic\, Rock
DESCRIPTION:Floaters\, Warter\, 刑鉄\, PNQ and Citizens\nCategory: Doom\, Met
 al\, Noise\, Psychedelic\, Rock\nLink: https://www.tokyogigguide.com/index
 .php?option=com_jem&view=event&id=19831:floters-warter&Itemid=1094\n
DTSTART:20180617T190000
DTEND:20180617T190000
LOCATION:El Puente\,B1 8-8 Nishihiranumacho\, Nishi-ku\, Yokohama\,Yokohama
SUMMARY:Floaters\, Warter\, 刑鉄\, PNQ and Citizens
URL:https://www.tokyogigguide.com/index.php?option=com_jem&view=event&id=19
 831:floters-warter&Itemid=1094
END:VEVENT
END:VCALENDAR
