BEGIN:VCALENDAR
VERSION:2.0
PRODID:-//104.152.168.27//NONSGML kigkonsult.se iCalcreator 2.20//
CALSCALE:GREGORIAN
METHOD:PUBLISH
X-WR-TIMEZONE:Asia/Tokyo
BEGIN:VEVENT
UID:event19245@Tokyo Gig Guide
DTSTAMP:20260421T101531Z
CATEGORIES:Acoustic\, Blues\, Jazz
DESCRIPTION:FRET LAND (Yoshihiro Arita\, Natsuki Kido\, Shunji Takenaka)\nC
 ategory: Acoustic\, Blues\, Jazz\nLink: https://www.tokyogigguide.com/inde
 x.php?option=com_jem&view=event&id=19245:fret-land-yoshihiro-arita-natsuki
 -kido-shunji-takenaka&Itemid=1094\n
DTSTART:20180523T190000
DTEND:20180523T190000
LOCATION:Rooster\,Inoue Bldg B1\, Ogikubo 5-16-15\, Suginami-ku\,Ogikubo
SUMMARY:FRET LAND (Yoshihiro Arita\, Natsuki Kido\, Shunji Takenaka)
URL:https://www.tokyogigguide.com/index.php?option=com_jem&view=event&id=19
 245:fret-land-yoshihiro-arita-natsuki-kido-shunji-takenaka&Itemid=1094
END:VEVENT
END:VCALENDAR
