BEGIN:VCALENDAR
VERSION:2.0
PRODID:-//104.152.168.27//NONSGML kigkonsult.se iCalcreator 2.20//
CALSCALE:GREGORIAN
METHOD:PUBLISH
X-WR-TIMEZONE:Asia/Tokyo
BEGIN:VEVENT
UID:event19004@Tokyo Gig Guide
DTSTAMP:20260426T005748Z
CATEGORIES:Metal
DESCRIPTION:DISASTER\, ARISE\, CASHBAH\, CODE RED\, RIVERGE\, SHELLSHOCK\nC
 ategory: Metal\nLink: https://www.tokyogigguide.com/index.php?option=com_j
 em&view=event&id=19004:disaster-arise-cashbah-code-red-riverge-shellshock&
 Itemid=1094\n
DTSTART:20180714T173000
DTEND:20180714T173000
LOCATION:El Puente\,B1 8-8 Nishihiranumacho\, Nishi-ku\, Yokohama\,Yokohama
SUMMARY:DISASTER\, ARISE\, CASHBAH\, CODE RED\, RIVERGE\, SHELLSHOCK
URL:https://www.tokyogigguide.com/index.php?option=com_jem&view=event&id=19
 004:disaster-arise-cashbah-code-red-riverge-shellshock&Itemid=1094
END:VEVENT
END:VCALENDAR
