BEGIN:VCALENDAR
VERSION:2.0
PRODID:-//104.152.168.27//NONSGML kigkonsult.se iCalcreator 2.20//
CALSCALE:GREGORIAN
METHOD:PUBLISH
X-WR-TIMEZONE:Asia/Tokyo
BEGIN:VEVENT
UID:event19003@Tokyo Gig Guide
DTSTAMP:20260424T041956Z
CATEGORIES:Avant garde
DESCRIPTION:服部峻\, ju sei\, 池田若菜 (band set)\nCategory: Avant garde\nLink: ht
 tps://www.tokyogigguide.com/index.php?option=com_jem&view=event&id=19003:j
 u-sei-band-set&Itemid=1094\n
DTSTART:20180223T190000
DTEND:20180223T190000
LOCATION:SCOOL\,5F\, 3-33-6 Shimorenjaku\, Mitaka\,Mitaka
SUMMARY:服部峻\, ju sei\, 池田若菜 (band set)
URL:https://www.tokyogigguide.com/index.php?option=com_jem&view=event&id=19
 003:ju-sei-band-set&Itemid=1094
END:VEVENT
END:VCALENDAR
