BEGIN:VCALENDAR
VERSION:2.0
PRODID:-//104.152.168.27//NONSGML kigkonsult.se iCalcreator 2.20//
CALSCALE:GREGORIAN
METHOD:PUBLISH
X-WR-TIMEZONE:Asia/Tokyo
BEGIN:VEVENT
UID:event18826@Tokyo Gig Guide
DTSTAMP:20260421T094620Z
CATEGORIES:Blues\, Instrumental\, Rock
DESCRIPTION:COIL (Natsuki Kido\, Takeharu Hayakawa\, Tsutomu Nakayama\, Eij
 i Tanaka)\nCategory: Blues\, Instrumental\, Rock\nLink: https://www.tokyog
 igguide.com/index.php?option=com_jem&view=event&id=18826:coil-natsuki-kido
 -takeharu-hayakawa-tsutomu-nakayama-eiji-tanaka&Itemid=1094\n
DTSTART:20180312T183000
DTEND:20180312T183000
LOCATION:Ongakushitsu DX\,B1F 3-20-4 Nishiwaseda Shinjuku-ku Tokyo\,Takadan
 obaba
SUMMARY:COIL (Natsuki Kido\, Takeharu Hayakawa\, Tsutomu Nakayama\, Eiji Ta
 naka)
URL:https://www.tokyogigguide.com/index.php?option=com_jem&view=event&id=18
 826:coil-natsuki-kido-takeharu-hayakawa-tsutomu-nakayama-eiji-tanaka&Itemi
 d=1094
END:VEVENT
END:VCALENDAR
