BEGIN:VCALENDAR
VERSION:2.0
PRODID:-//104.152.168.27//NONSGML kigkonsult.se iCalcreator 2.20//
CALSCALE:GREGORIAN
METHOD:PUBLISH
X-WR-TIMEZONE:Asia/Tokyo
BEGIN:VEVENT
UID:event18821@Tokyo Gig Guide
DTSTAMP:20260424T214312Z
CATEGORIES:Jazz
DESCRIPTION:Hayashi Eiichi (sax) + Seo Takashi (bass) + Darren Moore (drums
 )\nCategory: Jazz\nLink: https://www.tokyogigguide.com/index.php?option=co
 m_jem&view=event&id=18821:hayashi-eiichi-sax-seo-takashi-bass-darren-moore
 -drums&Itemid=1094\n
DTSTART:20180322T193000
DTEND:20180322T193000
LOCATION:Sweet Rain\,Okada Bldg. B1\, 5-46-5　Nakano\, Nakano-ku\, Tokyo\,Na
 kano
SUMMARY:Hayashi Eiichi (sax) + Seo Takashi (bass) + Darren Moore (drums)
URL:https://www.tokyogigguide.com/index.php?option=com_jem&view=event&id=18
 821:hayashi-eiichi-sax-seo-takashi-bass-darren-moore-drums&Itemid=1094
END:VEVENT
END:VCALENDAR
