BEGIN:VCALENDAR
VERSION:2.0
PRODID:-//104.152.168.27//NONSGML kigkonsult.se iCalcreator 2.20//
CALSCALE:GREGORIAN
METHOD:PUBLISH
X-WR-TIMEZONE:Asia/Tokyo
BEGIN:VEVENT
UID:event18769@Tokyo Gig Guide
DTSTAMP:20260424T115454Z
CATEGORIES:Psychedelic
DESCRIPTION:Suishou No Fune (水晶の舟)\nCategory: Psychedelic\nLink: https://ww
 w.tokyogigguide.com/index.php?option=com_jem&view=event&id=18769:suishou-n
 o-fune&Itemid=1094\n
DTSTART:20180330T190000
DTEND:20180330T190000
LOCATION:Silver Elephant\,2-10-6 B1\, Kichijoji Honmachi\,Kichijoji
SUMMARY:Suishou No Fune (水晶の舟)
URL:https://www.tokyogigguide.com/index.php?option=com_jem&view=event&id=18
 769:suishou-no-fune&Itemid=1094
END:VEVENT
END:VCALENDAR
