BEGIN:VCALENDAR
VERSION:2.0
PRODID:-//104.152.168.27//NONSGML kigkonsult.se iCalcreator 2.20//
CALSCALE:GREGORIAN
METHOD:PUBLISH
X-WR-TIMEZONE:Asia/Tokyo
BEGIN:VEVENT
UID:event18682@Tokyo Gig Guide
DTSTAMP:20260425T130128Z
CATEGORIES:Acoustic\, Avant garde\, Experimental\, Free Jazz\, Improvised\,
  Performance
DESCRIPTION:Kiyasu Orchestra\, Ahum\, ANDRE\, Yu\, SEXREX\nCategory: Acoust
 ic\, Avant garde\, Experimental\, Free Jazz\, Improvised\, Performance\nLi
 nk: https://www.tokyogigguide.com/index.php?option=com_jem&view=event&id=1
 8682:kiyasu-orchestra-ahum-andre-yu-sexrex&Itemid=1094\n
DTSTART:20180126T180000
DTEND:20180126T180000
LOCATION:Guilty\,Prospect B1F\, 1-17-6 Genzaka\, Shibuya\,Shibuya
SUMMARY:Kiyasu Orchestra\, Ahum\, ANDRE\, Yu\, SEXREX
URL:https://www.tokyogigguide.com/index.php?option=com_jem&view=event&id=18
 682:kiyasu-orchestra-ahum-andre-yu-sexrex&Itemid=1094
END:VEVENT
END:VCALENDAR
