BEGIN:VCALENDAR
VERSION:2.0
PRODID:-//104.152.168.27//NONSGML kigkonsult.se iCalcreator 2.20//
CALSCALE:GREGORIAN
METHOD:PUBLISH
X-WR-TIMEZONE:Asia/Tokyo
BEGIN:VEVENT
UID:event18626@Tokyo Gig Guide
DTSTAMP:20260423T033217Z
CATEGORIES:Avant garde\, Free Jazz\, Instrumental\, Rock
DESCRIPTION:Natsuki Kido\, Tomokazu Sugimoto\, Yoshihito Eto\nCategory: Ava
 nt garde\, Free Jazz\, Instrumental\, Rock\nLink: https://www.tokyogigguid
 e.com/index.php?option=com_jem&view=event&id=18626:natsuki-kido-tomokazu-s
 ugimoto-yoshihito-eto&Itemid=1094\n
DTSTART:20180213T190000
DTEND:20180213T190000
LOCATION:Rooster\,Inoue Bldg B1\, Ogikubo 5-16-15\, Suginami-ku\,Ogikubo
SUMMARY:Natsuki Kido\, Tomokazu Sugimoto\, Yoshihito Eto
URL:https://www.tokyogigguide.com/index.php?option=com_jem&view=event&id=18
 626:natsuki-kido-tomokazu-sugimoto-yoshihito-eto&Itemid=1094
END:VEVENT
END:VCALENDAR
