BEGIN:VCALENDAR
VERSION:2.0
PRODID:-//104.152.168.27//NONSGML kigkonsult.se iCalcreator 2.20//
CALSCALE:GREGORIAN
METHOD:PUBLISH
X-WR-TIMEZONE:Asia/Tokyo
BEGIN:VEVENT
UID:event18334@Tokyo Gig Guide
DTSTAMP:20260423T205837Z
CATEGORIES:Alternative\, Avant garde\, Instrumental\, Progressive
DESCRIPTION:ERA (Akihisa Tsuboi\, Natsuki Kido) + Hiroyuki Nanba\, Kenji Sa
 to\, Youichi Okabe\nCategory: Alternative\, Avant garde\, Instrumental\, P
 rogressive\nLink: https://www.tokyogigguide.com/index.php?option=com_jem&v
 iew=event&id=18334:ra-akihisa-tsuboi-natsuki-kido-hiroyuki-nanba-kenji-sat
 o-youichi-okabe&Itemid=1094\n
DTSTART:20171227T190000
DTEND:20171227T190000
LOCATION:Silver Elephant\,2-10-6 B1\, Kichijoji Honmachi\,Kichijoji
SUMMARY:ERA (Akihisa Tsuboi\, Natsuki Kido) + Hiroyuki Nanba\, Kenji Sato\,
  Youichi Okabe
URL:https://www.tokyogigguide.com/index.php?option=com_jem&view=event&id=18
 334:ra-akihisa-tsuboi-natsuki-kido-hiroyuki-nanba-kenji-sato-youichi-okabe
 &Itemid=1094
END:VEVENT
END:VCALENDAR
