BEGIN:VCALENDAR
VERSION:2.0
PRODID:-//104.152.168.27//NONSGML kigkonsult.se iCalcreator 2.20//
CALSCALE:GREGORIAN
METHOD:PUBLISH
X-WR-TIMEZONE:Asia/Tokyo
BEGIN:VEVENT
UID:event18275@Tokyo Gig Guide
DTSTAMP:20260421T102208Z
CATEGORIES:Jazz
DESCRIPTION:Neil Billington (from New Zealand) Jazz Harmonica\nCategory: Ja
 zz\nLink: https://www.tokyogigguide.com/index.php?option=com_jem&view=even
 t&id=18275:neil-billington-from-new-zealand-jazz-show&Itemid=1094\n
DTSTART:20171125T190000
DTEND:20171125T190000
LOCATION:Sweet Rain\,Okada Bldg. B1\, 5-46-5　Nakano\, Nakano-ku\, Tokyo\,Na
 kano
SUMMARY:Neil Billington (from New Zealand) Jazz Harmonica
URL:https://www.tokyogigguide.com/index.php?option=com_jem&view=event&id=18
 275:neil-billington-from-new-zealand-jazz-show&Itemid=1094
END:VEVENT
END:VCALENDAR
