BEGIN:VCALENDAR
VERSION:2.0
PRODID:-//104.152.168.27//NONSGML kigkonsult.se iCalcreator 2.20//
CALSCALE:GREGORIAN
METHOD:PUBLISH
X-WR-TIMEZONE:Asia/Tokyo
BEGIN:VEVENT
UID:event1827@Tokyo Gig Guide
DTSTAMP:20260421T004722Z
CATEGORIES:Blues
DESCRIPTION:CAT POWER and DIRTY DELTA BLUES\nCategory: Blues\nLink: https:/
 /www.tokyogigguide.com/index.php?option=com_jem&view=event&id=1827:cat-pow
 er-and-dirty-delta-blues&Itemid=1094\n
DTSTART:20100117T170000
DTEND:20100117T170000
LOCATION:O-East\,2F 2-14-9 Dogenzaka\, Shibuya-ku\,Shibuya
SUMMARY:CAT POWER and DIRTY DELTA BLUES
URL:https://www.tokyogigguide.com/index.php?option=com_jem&view=event&id=18
 27:cat-power-and-dirty-delta-blues&Itemid=1094
END:VEVENT
END:VCALENDAR
