BEGIN:VCALENDAR
VERSION:2.0
PRODID:-//104.152.168.27//NONSGML kigkonsult.se iCalcreator 2.20//
CALSCALE:GREGORIAN
METHOD:PUBLISH
X-WR-TIMEZONE:Asia/Tokyo
BEGIN:VEVENT
UID:event18240@Tokyo Gig Guide
DTSTAMP:20260419T212443Z
CATEGORIES:Avant garde
DESCRIPTION:Yasuaki Shimizu × Carl Stone\, Hair Stylistics × Foodman\, Part
 y Killers!\, Akiko Nakayama\, Akey\nCategory: Avant garde\nLink: https://w
 ww.tokyogigguide.com/index.php?option=com_jem&view=event&id=18240:yasuaki-
 shimizu-carl-stone-hair-stylistics-foodman-party-killers-akiko-nakayama-ak
 ey&Itemid=1094\n
DTSTART:20171223T190000
DTEND:20171223T190000
LOCATION:Super Deluxe\,B1F 3-1-25 Nishi Azabu\, Minato-ku\,Roppongi
SUMMARY:Yasuaki Shimizu × Carl Stone\, Hair Stylistics × Foodman\, Party Ki
 llers!\, Akiko Nakayama\, Akey
URL:https://www.tokyogigguide.com/index.php?option=com_jem&view=event&id=18
 240:yasuaki-shimizu-carl-stone-hair-stylistics-foodman-party-killers-akiko
 -nakayama-akey&Itemid=1094
END:VEVENT
END:VCALENDAR
