BEGIN:VCALENDAR
VERSION:2.0
PRODID:-//104.152.168.27//NONSGML kigkonsult.se iCalcreator 2.20//
CALSCALE:GREGORIAN
METHOD:PUBLISH
X-WR-TIMEZONE:Asia/Tokyo
BEGIN:VEVENT
UID:event1786@Tokyo Gig Guide
DTSTAMP:20260420T150117Z
CATEGORIES:Improvised
DESCRIPTION:Marcos Fernandes\, Keiko Higuchi\, Cal Lyall\, Manabu Suzuki\nC
 ategory: Improvised\nLink: https://www.tokyogigguide.com/index.php?option=
 com_jem&view=event&id=1786:marcos-fernandes-keiko-higuchi-cal-lyall-manabu
 -suzuki&Itemid=1094\n
DTSTART:20091202T220000
DTEND:20091202T220000
LOCATION:Airegin\,5-60 Sumiyoshi-cho\, Naka-ku\, Yokohama\, Kanagawa\,Yokoh
 ama
SUMMARY:Marcos Fernandes\, Keiko Higuchi\, Cal Lyall\, Manabu Suzuki
URL:https://www.tokyogigguide.com/index.php?option=com_jem&view=event&id=17
 86:marcos-fernandes-keiko-higuchi-cal-lyall-manabu-suzuki&Itemid=1094
END:VEVENT
END:VCALENDAR
