BEGIN:VCALENDAR
VERSION:2.0
PRODID:-//104.152.168.27//NONSGML kigkonsult.se iCalcreator 2.20//
CALSCALE:GREGORIAN
METHOD:PUBLISH
X-WR-TIMEZONE:Asia/Tokyo
BEGIN:VEVENT
UID:event1785@Tokyo Gig Guide
DTSTAMP:20260426T014008Z
CATEGORIES:Improvised
DESCRIPTION:Marcos Fernandes\, Shoomy\, Shigeo Sugiyama\,  Mikiharu Takagi\
 , Takayuki Kato\, Hiro Higo\nCategory: Improvised\nLink: https://www.tokyo
 gigguide.com/index.php?option=com_jem&view=event&id=1785:marcos-fernandes-
 shoomy-shigeo-sugiyama-mikiharu-takagi-takayuki-kato-hiro-higo&Itemid=1094
 \n
DTSTART:20091209T220000
DTEND:20091209T220000
LOCATION:Knuttel House\,4-1-8 Matsugaya\, Taito-ku\, Tokyo\,Iriya
SUMMARY:Marcos Fernandes\, Shoomy\, Shigeo Sugiyama\,  Mikiharu Takagi\, Ta
 kayuki Kato\, Hiro Higo
URL:https://www.tokyogigguide.com/index.php?option=com_jem&view=event&id=17
 85:marcos-fernandes-shoomy-shigeo-sugiyama-mikiharu-takagi-takayuki-kato-h
 iro-higo&Itemid=1094
END:VEVENT
END:VCALENDAR
