BEGIN:VCALENDAR
VERSION:2.0
PRODID:-//104.152.168.27//NONSGML kigkonsult.se iCalcreator 2.20//
CALSCALE:GREGORIAN
METHOD:PUBLISH
X-WR-TIMEZONE:Asia/Tokyo
BEGIN:VEVENT
UID:event17570@Tokyo Gig Guide
DTSTAMP:20260425T134155Z
CATEGORIES:Electronic
DESCRIPTION:Massive Attack\, Young Fathers\nCategory: Electronic\nLink: htt
 ps://www.tokyogigguide.com/index.php?option=com_jem&view=event&id=17570:ma
 ssive-attack-young-fathers&Itemid=1094\n
DTSTART:20171127T180000
DTEND:20171127T180000
LOCATION:PIT\,Toyosu 6-1-23\, Koto-ku\, Tokyo\,Toyosu
SUMMARY:Massive Attack\, Young Fathers
URL:https://www.tokyogigguide.com/index.php?option=com_jem&view=event&id=17
 570:massive-attack-young-fathers&Itemid=1094
END:VEVENT
END:VCALENDAR
