BEGIN:VCALENDAR
VERSION:2.0
PRODID:-//104.152.168.27//NONSGML kigkonsult.se iCalcreator 2.20//
CALSCALE:GREGORIAN
METHOD:PUBLISH
X-WR-TIMEZONE:Asia/Tokyo
BEGIN:VEVENT
UID:event17465@Tokyo Gig Guide
DTSTAMP:20260422T154009Z
CATEGORIES:Progressive
DESCRIPTION:Quaser\, melogress\, KawasakiTakao3\nCategory: Progressive\nLin
 k: https://www.tokyogigguide.com/index.php?option=com_jem&view=event&id=17
 465:quaser-melogress&Itemid=1094\n
DTSTART:20171022T173000
DTEND:20171022T173000
LOCATION:Silver Elephant\,2-10-6 B1\, Kichijoji Honmachi\,Kichijoji
SUMMARY:Quaser\, melogress\, KawasakiTakao3
URL:https://www.tokyogigguide.com/index.php?option=com_jem&view=event&id=17
 465:quaser-melogress&Itemid=1094
END:VEVENT
END:VCALENDAR
