BEGIN:VCALENDAR
VERSION:2.0
PRODID:-//104.152.168.27//NONSGML kigkonsult.se iCalcreator 2.20//
CALSCALE:GREGORIAN
METHOD:PUBLISH
X-WR-TIMEZONE:Asia/Tokyo
BEGIN:VEVENT
UID:event17388@Tokyo Gig Guide
DTSTAMP:20260420T162048Z
CATEGORIES:Indie-Rock\, New Wave\, Psychedelic\, Electronic Rock\, Post-Pun
 k
DESCRIPTION:FARM PARTY 24: サイコ風呂敷\, KUUNATIC\, Barry Zogon Band\, Cusper\nC
 ategory: Indie-Rock\, New Wave\, Psychedelic\, Electronic Rock\, Post-Punk
 \nLink: https://www.tokyogigguide.com/index.php?option=com_jem&view=event&
 id=17388:farm-party-24-kuunatic-barry-zogon-band-cusper&Itemid=1094\n
DTSTART:20170922T183000
DTEND:20170922T183000
LOCATION:Ruby Room\,2F Kasumi Bldg\, Dogenzaka 2-25-17\, Shibuya\,Shibuya
SUMMARY:FARM PARTY 24: サイコ風呂敷\, KUUNATIC\, Barry Zogon Band\, Cusper
URL:https://www.tokyogigguide.com/index.php?option=com_jem&view=event&id=17
 388:farm-party-24-kuunatic-barry-zogon-band-cusper&Itemid=1094
END:VEVENT
END:VCALENDAR
