BEGIN:VCALENDAR
VERSION:2.0
PRODID:-//104.152.168.27//NONSGML kigkonsult.se iCalcreator 2.20//
CALSCALE:GREGORIAN
METHOD:PUBLISH
X-WR-TIMEZONE:Asia/Tokyo
BEGIN:VEVENT
UID:event17322@Tokyo Gig Guide
DTSTAMP:20260419T233825Z
CATEGORIES:Acoustic\, Chanson\, Performance\, Shibuya-kei\, World
DESCRIPTION:Amita Hachidori\, Yusuke Hayashi\, Shinya Sato\, Take-yan\nCate
 gory: Acoustic\, Chanson\, Performance\, Shibuya-kei\, World\nLink: https:
 //www.tokyogigguide.com/index.php?option=com_jem&view=event&id=17322:amita
 -hachidori-yusuke-hayashi-shinya-sato-take-yan&Itemid=1094\n
DTSTART:20170727T183000
DTEND:20170727T183000
LOCATION:All in Fun\,3-51-8 Minami-Otsuka\, Toshima-ku\, Tokyo\,Otsuka
SUMMARY:Amita Hachidori\, Yusuke Hayashi\, Shinya Sato\, Take-yan
URL:https://www.tokyogigguide.com/index.php?option=com_jem&view=event&id=17
 322:amita-hachidori-yusuke-hayashi-shinya-sato-take-yan&Itemid=1094
END:VEVENT
END:VCALENDAR
