BEGIN:VCALENDAR
VERSION:2.0
PRODID:-//104.152.168.27//NONSGML kigkonsult.se iCalcreator 2.20//
CALSCALE:GREGORIAN
METHOD:PUBLISH
X-WR-TIMEZONE:Asia/Tokyo
BEGIN:VEVENT
UID:event16901@Tokyo Gig Guide
DTSTAMP:20260420T175050Z
CATEGORIES:Blues\, Progressive\, Rock
DESCRIPTION:COIL (Natsuki Kido\, Takeharu Hayakawa\, Tsutomu Nakayama\, Eij
 i Tanaka)\nCategory: Blues\, Progressive\, Rock\nLink: https://www.tokyogi
 gguide.com/index.php?option=com_jem&view=event&id=16901:coil&Itemid=1094\n
DTSTART:20170706T190000
DTEND:20170706T190000
LOCATION:Silver Elephant\,2-10-6 B1\, Kichijoji Honmachi\,Kichijoji
SUMMARY:COIL (Natsuki Kido\, Takeharu Hayakawa\, Tsutomu Nakayama\, Eiji Ta
 naka)
URL:https://www.tokyogigguide.com/index.php?option=com_jem&view=event&id=16
 901:coil&Itemid=1094
END:VEVENT
END:VCALENDAR
