BEGIN:VCALENDAR
VERSION:2.0
PRODID:-//104.152.168.27//NONSGML kigkonsult.se iCalcreator 2.20//
CALSCALE:GREGORIAN
METHOD:PUBLISH
X-WR-TIMEZONE:Asia/Tokyo
BEGIN:VEVENT
UID:event16871@Tokyo Gig Guide
DTSTAMP:20260420T184152Z
CATEGORIES:Festival
DESCRIPTION:SWEET LOVE SHOWER 2017\nCategory: Festival\nLink: https://www.t
 okyogigguide.com/index.php?option=com_jem&view=event&id=16871:sweet-love-s
 hower-2017&Itemid=1094\n
DTSTART:20170827T090000
DTEND:20170827T090000
SUMMARY:SWEET LOVE SHOWER 2017
URL:https://www.tokyogigguide.com/index.php?option=com_jem&view=event&id=16
 871:sweet-love-shower-2017&Itemid=1094
END:VEVENT
END:VCALENDAR
