BEGIN:VCALENDAR
VERSION:2.0
PRODID:-//104.152.168.27//NONSGML kigkonsult.se iCalcreator 2.20//
CALSCALE:GREGORIAN
METHOD:PUBLISH
X-WR-TIMEZONE:Asia/Tokyo
BEGIN:VEVENT
UID:event16849@Tokyo Gig Guide
DTSTAMP:20260422T161434Z
CATEGORIES:Festival
DESCRIPTION:SATANIC CARNIVAL\nCategory: Festival\nLink: https://www.tokyogi
 gguide.com/index.php?option=com_jem&view=event&id=16849:satanic-carnival&I
 temid=1094\n
DTSTART:20170617T090000
DTEND:20170617T090000
LOCATION:Makuhari Messe\,2-1 Nakase\, Mihama-ku\, Chiba\,Makuhari
SUMMARY:SATANIC CARNIVAL
URL:https://www.tokyogigguide.com/index.php?option=com_jem&view=event&id=16
 849:satanic-carnival&Itemid=1094
END:VEVENT
END:VCALENDAR
