BEGIN:VCALENDAR
VERSION:2.0
PRODID:-//104.152.168.27//NONSGML kigkonsult.se iCalcreator 2.20//
CALSCALE:GREGORIAN
METHOD:PUBLISH
X-WR-TIMEZONE:Asia/Tokyo
BEGIN:VEVENT
UID:event1669@Tokyo Gig Guide
DTSTAMP:20260421T061439Z
CATEGORIES:Improvised
DESCRIPTION:Marcos Fernandes\, Paed Conga\, Read Yassin\nCategory: Improvis
 ed\nLink: https://www.tokyogigguide.com/index.php?option=com_jem&view=even
 t&id=1669:marcos-fernandes-paed-conga-read-yassin&Itemid=1094\n
DTSTART:20091010T220000
DTEND:20091010T220000
LOCATION:Airegin\,5-60 Sumiyoshi-cho\, Naka-ku\, Yokohama\, Kanagawa\,Yokoh
 ama
SUMMARY:Marcos Fernandes\, Paed Conga\, Read Yassin
URL:https://www.tokyogigguide.com/index.php?option=com_jem&view=event&id=16
 69:marcos-fernandes-paed-conga-read-yassin&Itemid=1094
END:VEVENT
END:VCALENDAR
