BEGIN:VCALENDAR
VERSION:2.0
PRODID:-//104.152.168.27//NONSGML kigkonsult.se iCalcreator 2.20//
CALSCALE:GREGORIAN
METHOD:PUBLISH
X-WR-TIMEZONE:Asia/Tokyo
BEGIN:VEVENT
UID:event16115@Tokyo Gig Guide
DTSTAMP:20260419T230731Z
CATEGORIES:Festival
DESCRIPTION:TONOFON FESTIVAL\nCategory: Festival\nLink: https://www.tokyogi
 gguide.com/index.php?option=com_jem&view=event&id=16115:tonofon-festival-s
 hugo-tokumaru-nikaido-kazumi-with-gentle-forest-quintet-never-young-beach-
 more&Itemid=1094\n
DTSTART:20170625T123000
DTEND:20170625T123000
SUMMARY:TONOFON FESTIVAL
URL:https://www.tokyogigguide.com/index.php?option=com_jem&view=event&id=16
 115:tonofon-festival-shugo-tokumaru-nikaido-kazumi-with-gentle-forest-quin
 tet-never-young-beach-more&Itemid=1094
END:VEVENT
END:VCALENDAR
