BEGIN:VCALENDAR
VERSION:2.0
PRODID:-//104.152.168.27//NONSGML kigkonsult.se iCalcreator 2.20//
CALSCALE:GREGORIAN
METHOD:PUBLISH
X-WR-TIMEZONE:Asia/Tokyo
BEGIN:VEVENT
UID:event15943@Tokyo Gig Guide
DTSTAMP:20260421T074737Z
CATEGORIES:Electronic
DESCRIPTION:Aurora Halal\, Antenes\, Sapphire Slows\, Lynne\, Tentenko\, Ay
 a Gloomy\, Medical\, Yuki Moriyama\, more\nCategory: Electronic\nLink: htt
 ps://www.tokyogigguide.com/index.php?option=com_jem&view=event&id=15943:au
 rora-halal-antenes-sapphire-slows-lynne-tentenko-aya-gloomy-medical-yuki-m
 oriyama-more&Itemid=1094\n
DTSTART:20170319T220000
DTEND:20170319T220000
LOCATION:Contact\,B2F 2-10-12 DOGENZAKA\, SHIBUYA-KU\,Shibuya
SUMMARY:Aurora Halal\, Antenes\, Sapphire Slows\, Lynne\, Tentenko\, Aya Gl
 oomy\, Medical\, Yuki Moriyama\, more
URL:https://www.tokyogigguide.com/index.php?option=com_jem&view=event&id=15
 943:aurora-halal-antenes-sapphire-slows-lynne-tentenko-aya-gloomy-medical-
 yuki-moriyama-more&Itemid=1094
END:VEVENT
END:VCALENDAR
