BEGIN:VCALENDAR
VERSION:2.0
PRODID:-//104.152.168.27//NONSGML kigkonsult.se iCalcreator 2.20//
CALSCALE:GREGORIAN
METHOD:PUBLISH
X-WR-TIMEZONE:Asia/Tokyo
BEGIN:VEVENT
UID:event15722@Tokyo Gig Guide
DTSTAMP:20260421T131422Z
CATEGORIES:Festival
DESCRIPTION:FUJI ROCK FESTIVAL\nCategory: Festival\nLink: https://www.tokyo
 gigguide.com/index.php?option=com_jem&view=event&id=15722:fuji-rock-festiv
 al&Itemid=1094\n
DTSTART:20170730T090000
DTEND:20170730T090000
LOCATION:Naeba Ski Resort\,Mount Takenoko\, Echigo Yuzawa\, Niigata\,Naeba
SUMMARY:FUJI ROCK FESTIVAL
URL:https://www.tokyogigguide.com/index.php?option=com_jem&view=event&id=15
 722:fuji-rock-festival&Itemid=1094
END:VEVENT
END:VCALENDAR
