BEGIN:VCALENDAR
VERSION:2.0
PRODID:-//104.152.168.27//NONSGML kigkonsult.se iCalcreator 2.20//
CALSCALE:GREGORIAN
METHOD:PUBLISH
X-WR-TIMEZONE:Asia/Tokyo
BEGIN:VEVENT
UID:event1557@Tokyo Gig Guide
DTSTAMP:20260423T003952Z
CATEGORIES:Psych-Folk
DESCRIPTION:SUISHOU NO FUNE with MIKAMI KAN\nCategory: Psych-Folk\nLink: ht
 tps://www.tokyogigguide.com/index.php?option=com_jem&view=event&id=1557:su
 ishou-no-fune-with-mikami-kan&Itemid=1094\n
DTSTART:20091102T190000
DTEND:20091102T190000
LOCATION:Silver Elephant\,2-10-6 B1\, Kichijoji Honmachi\,Kichijoji
SUMMARY:SUISHOU NO FUNE with MIKAMI KAN
URL:https://www.tokyogigguide.com/index.php?option=com_jem&view=event&id=15
 57:suishou-no-fune-with-mikami-kan&Itemid=1094
END:VEVENT
END:VCALENDAR
