BEGIN:VCALENDAR
VERSION:2.0
PRODID:-//104.152.168.27//NONSGML kigkonsult.se iCalcreator 2.20//
CALSCALE:GREGORIAN
METHOD:PUBLISH
X-WR-TIMEZONE:Asia/Tokyo
BEGIN:VEVENT
UID:event15100@Tokyo Gig Guide
DTSTAMP:20260421T075333Z
CATEGORIES:Acoustic\, Avant garde\, Improvised\, Instrumental\, Progressive
DESCRIPTION:ERA (Akihisa Tsuboi\, Natsuki Kido) + Hiroyuki Nanba\, Kenji Sa
 to\, Youichi Okabe\nCategory: Acoustic\, Avant garde\, Improvised\, Instru
 mental\, Progressive\nLink: https://www.tokyogigguide.com/index.php?option
 =com_jem&view=event&id=15100:era-akihisa-tsuboi-natsuki-kido-hiroyuki-nanb
 a-kenji-sato-youichi-okabe&Itemid=1094\n
DTSTART:20161215T190000
DTEND:20161215T190000
LOCATION:Silver Elephant\,2-10-6 B1\, Kichijoji Honmachi\,Kichijoji
SUMMARY:ERA (Akihisa Tsuboi\, Natsuki Kido) + Hiroyuki Nanba\, Kenji Sato\,
  Youichi Okabe
URL:https://www.tokyogigguide.com/index.php?option=com_jem&view=event&id=15
 100:era-akihisa-tsuboi-natsuki-kido-hiroyuki-nanba-kenji-sato-youichi-okab
 e&Itemid=1094
END:VEVENT
END:VCALENDAR
