BEGIN:VCALENDAR
VERSION:2.0
PRODID:-//104.152.168.27//NONSGML kigkonsult.se iCalcreator 2.20//
CALSCALE:GREGORIAN
METHOD:PUBLISH
X-WR-TIMEZONE:Asia/Tokyo
BEGIN:VEVENT
UID:event14807@Tokyo Gig Guide
DTSTAMP:20260422T131204Z
CATEGORIES:Indie
DESCRIPTION:JAPPERS\, Wanna-Gonna\, The ManRay\, すばらしか\, Frano\, Luby Spark
 s\nCategory: Indie\nLink: https://www.tokyogigguide.com/index.php?option=c
 om_jem&view=event&id=14807:jappers-wanna-gonna-the-manray-frano-luby-spark
 s&Itemid=1094\n
DTSTART:20160930T193000
DTEND:20160930T193000
LOCATION:Three\,Kitazawa 5-18-1 B1F\, Setagaya-ku\, Tokyo\,Shimokitazawa
SUMMARY:JAPPERS\, Wanna-Gonna\, The ManRay\, すばらしか\, Frano\, Luby Sparks
URL:https://www.tokyogigguide.com/index.php?option=com_jem&view=event&id=14
 807:jappers-wanna-gonna-the-manray-frano-luby-sparks&Itemid=1094
END:VEVENT
END:VCALENDAR
