BEGIN:VCALENDAR
VERSION:2.0
PRODID:-//104.152.168.27//NONSGML kigkonsult.se iCalcreator 2.20//
CALSCALE:GREGORIAN
METHOD:PUBLISH
X-WR-TIMEZONE:Asia/Tokyo
BEGIN:VEVENT
UID:event14560@Tokyo Gig Guide
DTSTAMP:20260425T191216Z
CATEGORIES:Mixed Genre
DESCRIPTION:BUMBUMS\, Luveless\, Miu Mau\, 中山貴史RemiX\, mechaniphone\, Loopr
 ider\, 泣き顔ツインテール\, ウー\, Lo-shi\nCategory: Mixed Genre\nLink: https://www.t
 okyogigguide.com/index.php?option=com_jem&view=event&id=14560:bumbums-luve
 less-miu-mau-remix-mechaniphone-looprider-lo-shi&Itemid=1094\n
DTSTART:20161001T153000
DTEND:20161001T153000
LOCATION:20000 Den-atsu (二万電圧)\,L-GRAZIA B1\, 1-7-23 Koenji Minami\, Sugina
 mi-ku\,Higashi-Koenji
SUMMARY:BUMBUMS\, Luveless\, Miu Mau\, 中山貴史RemiX\, mechaniphone\, Looprider
 \, 泣き顔ツインテール\, ウー\, Lo-shi
URL:https://www.tokyogigguide.com/index.php?option=com_jem&view=event&id=14
 560:bumbums-luveless-miu-mau-remix-mechaniphone-looprider-lo-shi&Itemid=10
 94
END:VEVENT
END:VCALENDAR
