BEGIN:VCALENDAR
VERSION:2.0
PRODID:-//104.152.168.27//NONSGML kigkonsult.se iCalcreator 2.20//
CALSCALE:GREGORIAN
METHOD:PUBLISH
X-WR-TIMEZONE:Asia/Tokyo
BEGIN:VEVENT
UID:event14530@Tokyo Gig Guide
DTSTAMP:20260426T013005Z
CATEGORIES:Electronic\, Post-Rock
DESCRIPTION:soha\, Genius PJ’s\, MOJA\, Young Juvenile Youth\nCategory: Ele
 ctronic\, Post-Rock\nLink: https://www.tokyogigguide.com/index.php?option=
 com_jem&view=event&id=14530:soha-genius-pj-s-moja-young-juvenile-youth&Ite
 mid=1094\n
DTSTART:20161001T180000
DTEND:20161001T180000
LOCATION:O-Nest\,ON AIR WEST bldg. 6F\, 2-3 Maruyama-cho\, Shibuya-ku\,Shib
 uya
SUMMARY:soha\, Genius PJ’s\, MOJA\, Young Juvenile Youth
URL:https://www.tokyogigguide.com/index.php?option=com_jem&view=event&id=14
 530:soha-genius-pj-s-moja-young-juvenile-youth&Itemid=1094
END:VEVENT
END:VCALENDAR
