BEGIN:VCALENDAR
VERSION:2.0
PRODID:-//104.152.168.27//NONSGML kigkonsult.se iCalcreator 2.20//
CALSCALE:GREGORIAN
METHOD:PUBLISH
X-WR-TIMEZONE:Asia/Tokyo
BEGIN:VEVENT
UID:event1380@Tokyo Gig Guide
DTSTAMP:20260425T220117Z
CATEGORIES:Indie-Rock
DESCRIPTION:Natccu @ British Underground\nCategory: Indie-Rock\nLink: https
 ://www.tokyogigguide.com/index.php?option=com_jem&view=event&id=1380:natcc
 u--british-underground&Itemid=1094\n
DTSTART:20090806T200000
DTEND:20090806T200000
LOCATION:Ruby Room\,2F Kasumi Bldg\, Dogenzaka 2-25-17\, Shibuya\,Shibuya
SUMMARY:Natccu @ British Underground
URL:https://www.tokyogigguide.com/index.php?option=com_jem&view=event&id=13
 80:natccu--british-underground&Itemid=1094
END:VEVENT
END:VCALENDAR
