BEGIN:VCALENDAR
VERSION:2.0
PRODID:-//104.152.168.27//NONSGML kigkonsult.se iCalcreator 2.20//
CALSCALE:GREGORIAN
METHOD:PUBLISH
X-WR-TIMEZONE:Asia/Tokyo
BEGIN:VEVENT
UID:event13752@Tokyo Gig Guide
DTSTAMP:20260419T172025Z
CATEGORIES:Avant-pop\, Electronic\, Experimental\, Free Jazz\, Mixed Genre
DESCRIPTION:Tokyo Gig Guide presents SPACE FÊTE #3: Kiyasu Orchestra\, OPQ\
 , Barry Zogon Band\, 人魂\nCategory: Avant-pop\, Electronic\, Experimental\,
  Free Jazz\, Mixed Genre\nLink: https://www.tokyogigguide.com/index.php?op
 tion=com_jem&view=event&id=13752:space-fete-3-kiyasu-orchestra-opq-dj-topg
 ear-barry-zogon-band&Itemid=1094\n
DTSTART:20160605T183000
DTEND:20160605T183000
LOCATION:Ruby Room\,2F Kasumi Bldg\, Dogenzaka 2-25-17\, Shibuya\,Shibuya
SUMMARY:Tokyo Gig Guide presents SPACE FÊTE #3: Kiyasu Orchestra\, OPQ\, Ba
 rry Zogon Band\, 人魂
URL:https://www.tokyogigguide.com/index.php?option=com_jem&view=event&id=13
 752:space-fete-3-kiyasu-orchestra-opq-dj-topgear-barry-zogon-band&Itemid=1
 094
END:VEVENT
END:VCALENDAR
