BEGIN:VCALENDAR
VERSION:2.0
PRODID:-//104.152.168.27//NONSGML kigkonsult.se iCalcreator 2.20//
CALSCALE:GREGORIAN
METHOD:PUBLISH
X-WR-TIMEZONE:Asia/Tokyo
BEGIN:VEVENT
UID:event13694@Tokyo Gig Guide
DTSTAMP:20260422T134950Z
CATEGORIES:Electronic\, Experimental\, Indie-Rock\, Mixed Genre\, Post-Punk
DESCRIPTION:AMPLIFIER Vol. 11: Tears of the Rebel\, u crack irigaru\, TRILL
 -DAN (トリルダン)\, Dog Monster\nCategory: Electronic\, Experimental\, Indie-Ro
 ck\, Mixed Genre\, Post-Punk\nLink: https://www.tokyogigguide.com/index.ph
 p?option=com_jem&view=event&id=13694:amplifier-vol-11-tears-of-the-rebel-u
 -crack-irigaru-torirodan-dog-monster&Itemid=1094\n
DTSTART:20160430T173000
DTEND:20160430T173000
LOCATION:Chop (Shutou)\,Sheema100 B1\, 2-46-3 Ikebukuro\,Ikebukuro
SUMMARY:AMPLIFIER Vol. 11: Tears of the Rebel\, u crack irigaru\, TRILL-DAN
  (トリルダン)\, Dog Monster
URL:https://www.tokyogigguide.com/index.php?option=com_jem&view=event&id=13
 694:amplifier-vol-11-tears-of-the-rebel-u-crack-irigaru-torirodan-dog-mons
 ter&Itemid=1094
END:VEVENT
END:VCALENDAR
