BEGIN:VCALENDAR
VERSION:2.0
PRODID:-//104.152.168.27//NONSGML kigkonsult.se iCalcreator 2.20//
CALSCALE:GREGORIAN
METHOD:PUBLISH
X-WR-TIMEZONE:Asia/Tokyo
BEGIN:VEVENT
UID:event13693@Tokyo Gig Guide
DTSTAMP:20260421T044020Z
CATEGORIES:Indie-Rock\, Pop-punk\, Post-Punk
DESCRIPTION:AMPLIFIER Vol. 10: Powan (ぽわん) feat. GO-BANG'S\, loco hermanos\
 , CREA\nCategory: Indie-Rock\, Pop-punk\, Post-Punk\nLink: https://www.tok
 yogigguide.com/index.php?option=com_jem&view=event&id=13693:amplifier-vol-
 10-powan-feat-go-bang-s-loco-hermanos-crea&Itemid=1094\n
DTSTART:20160429T173000
DTEND:20160429T173000
LOCATION:Chop (Shutou)\,Sheema100 B1\, 2-46-3 Ikebukuro\,Ikebukuro
SUMMARY:AMPLIFIER Vol. 10: Powan (ぽわん) feat. GO-BANG'S\, loco hermanos\, CR
 EA
URL:https://www.tokyogigguide.com/index.php?option=com_jem&view=event&id=13
 693:amplifier-vol-10-powan-feat-go-bang-s-loco-hermanos-crea&Itemid=1094
END:VEVENT
END:VCALENDAR
