BEGIN:VCALENDAR
VERSION:2.0
PRODID:-//104.152.168.27//NONSGML kigkonsult.se iCalcreator 2.20//
CALSCALE:GREGORIAN
METHOD:PUBLISH
X-WR-TIMEZONE:Asia/Tokyo
BEGIN:VEVENT
UID:event13626@Tokyo Gig Guide
DTSTAMP:20260423T210654Z
CATEGORIES:Festival
DESCRIPTION:CRAFTROCK FESTIVAL\nCategory: Festival\nLink: https://www.tokyo
 gigguide.com/index.php?option=com_jem&view=event&id=13626:craftrock-festiv
 al&Itemid=1094\n
DTSTART:20160528T110000
DTEND:20160528T110000
LOCATION:PIT\,Toyosu 6-1-23\, Koto-ku\, Tokyo\,Toyosu
SUMMARY:CRAFTROCK FESTIVAL
URL:https://www.tokyogigguide.com/index.php?option=com_jem&view=event&id=13
 626:craftrock-festival&Itemid=1094
END:VEVENT
END:VCALENDAR
