BEGIN:VCALENDAR
VERSION:2.0
PRODID:-//104.152.168.27//NONSGML kigkonsult.se iCalcreator 2.20//
CALSCALE:GREGORIAN
METHOD:PUBLISH
X-WR-TIMEZONE:Asia/Tokyo
BEGIN:VEVENT
UID:event13619@Tokyo Gig Guide
DTSTAMP:20260425T203336Z
CATEGORIES:Alternative
DESCRIPTION:Metro-Ongen\, POP CHOCOLAT\, GONDABAND\, Takashi Hashimoto with
  Dots Dash & Rico\nCategory: Alternative\nLink: https://www.tokyogigguide.
 com/index.php?option=com_jem&view=event&id=13619:metro-ongen-pop-chocolat-
 gondaband-takashi-hashimoto-with-dots-dash-rico&Itemid=1094\n
DTSTART:20160331T183000
DTEND:20160331T183000
LOCATION:Zher The Zoo\,Yoyogi Park Bldg B1F\, Yoyogi 1-30-1\,Yoyogi
SUMMARY:Metro-Ongen\, POP CHOCOLAT\, GONDABAND\, Takashi Hashimoto with Dot
 s Dash & Rico
URL:https://www.tokyogigguide.com/index.php?option=com_jem&view=event&id=13
 619:metro-ongen-pop-chocolat-gondaband-takashi-hashimoto-with-dots-dash-ri
 co&Itemid=1094
END:VEVENT
END:VCALENDAR
