BEGIN:VCALENDAR
VERSION:2.0
PRODID:-//104.152.168.27//NONSGML kigkonsult.se iCalcreator 2.20//
CALSCALE:GREGORIAN
METHOD:PUBLISH
X-WR-TIMEZONE:Asia/Tokyo
BEGIN:VEVENT
UID:event13585@Tokyo Gig Guide
DTSTAMP:20260423T023212Z
CATEGORIES:Improvised
DESCRIPTION:Gianni Gebbia\, Miya Masaoka\, Marcos Fernandes\nCategory: Impr
 ovised\nLink: https://www.tokyogigguide.com/index.php?option=com_jem&view=
 event&id=13585:gianni-gebbia-miya-masaoka-marcos-fernandes&Itemid=1094\n
DTSTART:20160421T190000
DTEND:20160421T190000
LOCATION:Airegin\,5-60 Sumiyoshi-cho\, Naka-ku\, Yokohama\, Kanagawa\,Yokoh
 ama
SUMMARY:Gianni Gebbia\, Miya Masaoka\, Marcos Fernandes
URL:https://www.tokyogigguide.com/index.php?option=com_jem&view=event&id=13
 585:gianni-gebbia-miya-masaoka-marcos-fernandes&Itemid=1094
END:VEVENT
END:VCALENDAR
