BEGIN:VCALENDAR
VERSION:2.0
PRODID:-//104.152.168.27//NONSGML kigkonsult.se iCalcreator 2.20//
CALSCALE:GREGORIAN
METHOD:PUBLISH
X-WR-TIMEZONE:Asia/Tokyo
BEGIN:VEVENT
UID:event13267@Tokyo Gig Guide
DTSTAMP:20260421T070105Z
CATEGORIES:Improvised
DESCRIPTION:Uoichi featuring Eiichi Hayashi\, Asahiko Takahara\, Marcos Fer
 nandes\nCategory: Improvised\nLink: https://www.tokyogigguide.com/index.ph
 p?option=com_jem&view=event&id=13267:uoichi-featuring-eiichi-hayashi-asahi
 ko-takahara-marcos-fernandes&Itemid=1094\n
DTSTART:20160205T190000
DTEND:20160205T190000
LOCATION:Airegin\,5-60 Sumiyoshi-cho\, Naka-ku\, Yokohama\, Kanagawa\,Yokoh
 ama
SUMMARY:Uoichi featuring Eiichi Hayashi\, Asahiko Takahara\, Marcos Fernand
 es
URL:https://www.tokyogigguide.com/index.php?option=com_jem&view=event&id=13
 267:uoichi-featuring-eiichi-hayashi-asahiko-takahara-marcos-fernandes&Item
 id=1094
END:VEVENT
END:VCALENDAR
