BEGIN:VCALENDAR
VERSION:2.0
PRODID:-//104.152.168.27//NONSGML kigkonsult.se iCalcreator 2.20//
CALSCALE:GREGORIAN
METHOD:PUBLISH
X-WR-TIMEZONE:Asia/Tokyo
BEGIN:VEVENT
UID:event12928@Tokyo Gig Guide
DTSTAMP:20260425T191401Z
CATEGORIES:Other
DESCRIPTION:Ché-SHIZU (Mukai\, Kudo\, Nishimura\, Takahashi)\, Bloom Creati
 on\, à qui avec Gabriel\nCategory: Other\nLink: https://www.tokyogigguide.
 com/index.php?option=com_jem&view=event&id=12928:che-shizumukaikudonishimu
 ratakahashibloom-creationa-qui-avec-gabriel&Itemid=1094\n
DTSTART:20160123T190000
DTEND:20160123T190000
LOCATION:Hikari No Uma\,B1 1-23-17 Hyakunin-cho\, Shinjuku-ku\, Tokyo\,Okub
 o
SUMMARY:Ché-SHIZU (Mukai\, Kudo\, Nishimura\, Takahashi)\, Bloom Creation\,
  à qui avec Gabriel
URL:https://www.tokyogigguide.com/index.php?option=com_jem&view=event&id=12
 928:che-shizumukaikudonishimuratakahashibloom-creationa-qui-avec-gabriel&I
 temid=1094
END:VEVENT
END:VCALENDAR
