BEGIN:VCALENDAR
VERSION:2.0
PRODID:-//104.152.168.27//NONSGML kigkonsult.se iCalcreator 2.20//
CALSCALE:GREGORIAN
METHOD:PUBLISH
X-WR-TIMEZONE:Asia/Tokyo
BEGIN:VEVENT
UID:event1261@Tokyo Gig Guide
DTSTAMP:20260419T115110Z
CATEGORIES:Post-Rock
DESCRIPTION:mouse on the keys\, toe\, envy\nCategory: Post-Rock\nLink: http
 s://www.tokyogigguide.com/index.php?option=com_jem&view=event&id=1261:mous
 e-on-the-keys-toe-envy&Itemid=1094\n
DTSTART:20090910T180000
DTEND:20090910T180000
LOCATION:O-East\,2F 2-14-9 Dogenzaka\, Shibuya-ku\,Shibuya
SUMMARY:mouse on the keys\, toe\, envy
URL:https://www.tokyogigguide.com/index.php?option=com_jem&view=event&id=12
 61:mouse-on-the-keys-toe-envy&Itemid=1094
END:VEVENT
END:VCALENDAR
