BEGIN:VCALENDAR
VERSION:2.0
PRODID:-//104.152.168.27//NONSGML kigkonsult.se iCalcreator 2.20//
CALSCALE:GREGORIAN
METHOD:PUBLISH
X-WR-TIMEZONE:Asia/Tokyo
BEGIN:VEVENT
UID:event12602@Tokyo Gig Guide
DTSTAMP:20260421T221417Z
CATEGORIES:Electronic
DESCRIPTION:Japan Algorave Tour 2015: Andres Villa Torres\, APNOA\, Cole In
 graham\, Hitsuji\, Moxus\, more\nCategory: Electronic\nLink: https://www.t
 okyogigguide.com/index.php?option=com_jem&view=event&id=12602:japan-algora
 ve-tour-2015-andres-villa-torres-apnoa-cole-ingraham-hitsuji-moxus-more&It
 emid=1094\n
DTSTART:20151010T180000
DTEND:20151010T180000
LOCATION:Soup\,B1F Mitaka Building 3-9-10 Kami-Ochiai\,Shinjuku-ku\,Ochiai
SUMMARY:Japan Algorave Tour 2015: Andres Villa Torres\, APNOA\, Cole Ingrah
 am\, Hitsuji\, Moxus\, more
URL:https://www.tokyogigguide.com/index.php?option=com_jem&view=event&id=12
 602:japan-algorave-tour-2015-andres-villa-torres-apnoa-cole-ingraham-hitsu
 ji-moxus-more&Itemid=1094
END:VEVENT
END:VCALENDAR
