BEGIN:VCALENDAR
VERSION:2.0
PRODID:-//104.152.168.27//NONSGML kigkonsult.se iCalcreator 2.20//
CALSCALE:GREGORIAN
METHOD:PUBLISH
X-WR-TIMEZONE:Asia/Tokyo
BEGIN:VEVENT
UID:event12545@Tokyo Gig Guide
DTSTAMP:20260426T003047Z
CATEGORIES:Lo-Fi
DESCRIPTION:FARM PARTY 17: Scott & Charlene's Wedding (Australia)\, tailor 
 made for a small room\, Andersens. more\nCategory: Lo-Fi\nLink: https://ww
 w.tokyogigguide.com/index.php?option=com_jem&view=event&id=12545:farm-part
 y-17-scott-and-charlenes-wedding-australia-tailor-made-for-a-small-room-an
 dersens&Itemid=1094\n
DTSTART:20151101T183000
DTEND:20151101T183000
LOCATION:Ruby Room\,2F Kasumi Bldg\, Dogenzaka 2-25-17\, Shibuya\,Shibuya
SUMMARY:FARM PARTY 17: Scott & Charlene's Wedding (Australia)\, tailor made
  for a small room\, Andersens. more
URL:https://www.tokyogigguide.com/index.php?option=com_jem&view=event&id=12
 545:farm-party-17-scott-and-charlenes-wedding-australia-tailor-made-for-a-
 small-room-andersens&Itemid=1094
END:VEVENT
END:VCALENDAR
