BEGIN:VCALENDAR
VERSION:2.0
PRODID:-//104.152.168.27//NONSGML kigkonsult.se iCalcreator 2.20//
CALSCALE:GREGORIAN
METHOD:PUBLISH
X-WR-TIMEZONE:Asia/Tokyo
BEGIN:VEVENT
UID:event11953@Tokyo Gig Guide
DTSTAMP:20260421T221456Z
CATEGORIES:Grindcore
DESCRIPTION:Self Deconstruction\, Senseless Apocalypse\, Moribund Punishmen
 t\, Zagio Ehva Diledj...\nCategory: Grindcore\nLink: https://www.tokyogigg
 uide.com/index.php?option=com_jem&view=event&id=11953:self-deconstructions
 enseless-apocalypsemoribund-punishmentzagio-ehva-diledjetc&Itemid=1094\n
DTSTART:20150531T170000
DTEND:20150531T170000
LOCATION:El Puente\,B1 8-8 Nishihiranumacho\, Nishi-ku\, Yokohama\,Yokohama
SUMMARY:Self Deconstruction\, Senseless Apocalypse\, Moribund Punishment\, 
 Zagio Ehva Diledj...
URL:https://www.tokyogigguide.com/index.php?option=com_jem&view=event&id=11
 953:self-deconstructionsenseless-apocalypsemoribund-punishmentzagio-ehva-d
 iledjetc&Itemid=1094
END:VEVENT
END:VCALENDAR
