BEGIN:VCALENDAR
VERSION:2.0
PRODID:-//104.152.168.27//NONSGML kigkonsult.se iCalcreator 2.20//
CALSCALE:GREGORIAN
METHOD:PUBLISH
X-WR-TIMEZONE:Asia/Tokyo
BEGIN:VEVENT
UID:event11430@Tokyo Gig Guide
DTSTAMP:20260425T204551Z
CATEGORIES:Electronic
DESCRIPTION:BASEMENT JAXX\nCategory: Electronic\nLink: https://www.tokyogig
 guide.com/index.php?option=com_jem&view=event&id=11430:basement-jaxx&Itemi
 d=1094\n
DTSTART:20150313T180000
DTEND:20150313T180000
LOCATION:PIT\,Toyosu 6-1-23\, Koto-ku\, Tokyo\,Toyosu
SUMMARY:BASEMENT JAXX
URL:https://www.tokyogigguide.com/index.php?option=com_jem&view=event&id=11
 430:basement-jaxx&Itemid=1094
END:VEVENT
END:VCALENDAR
